BEGIN:VCALENDAR
VERSION:2.0
PRODID:-//EQness - ECPv6.15.18//NONSGML v1.0//EN
CALSCALE:GREGORIAN
METHOD:PUBLISH
X-ORIGINAL-URL:https://eqness.com
X-WR-CALDESC:Events for EQness
REFRESH-INTERVAL;VALUE=DURATION:PT1H
X-Robots-Tag:noindex
X-PUBLISHED-TTL:PT1H
BEGIN:VTIMEZONE
TZID:Australia/Sydney
BEGIN:STANDARD
TZOFFSETFROM:+1100
TZOFFSETTO:+1000
TZNAME:AEST
DTSTART:20210403T160000
END:STANDARD
BEGIN:DAYLIGHT
TZOFFSETFROM:+1000
TZOFFSETTO:+1100
TZNAME:AEDT
DTSTART:20211002T160000
END:DAYLIGHT
BEGIN:STANDARD
TZOFFSETFROM:+1100
TZOFFSETTO:+1000
TZNAME:AEST
DTSTART:20220402T160000
END:STANDARD
BEGIN:DAYLIGHT
TZOFFSETFROM:+1000
TZOFFSETTO:+1100
TZNAME:AEDT
DTSTART:20221001T160000
END:DAYLIGHT
BEGIN:STANDARD
TZOFFSETFROM:+1100
TZOFFSETTO:+1000
TZNAME:AEST
DTSTART:20230401T160000
END:STANDARD
BEGIN:DAYLIGHT
TZOFFSETFROM:+1000
TZOFFSETTO:+1100
TZNAME:AEDT
DTSTART:20230930T160000
END:DAYLIGHT
END:VTIMEZONE
BEGIN:VEVENT
DTSTART;TZID=Australia/Sydney:20220319T090000
DTEND;TZID=Australia/Sydney:20220319T110000
DTSTAMP:20260422T234425
CREATED:20220208T063634Z
LAST-MODIFIED:20220315T211821Z
UID:3308-1647680400-1647687600@eqness.com
SUMMARY:Workshop: Unstoppable Confidence (Online)
DESCRIPTION:If you feel that your lack of confidence is getting in the way of achieving your dream life\, it is time to do something and this workshop can help you with that. More information here.
URL:https://eqness.com/venues/workshop-unstoppable-confidence-online/
CATEGORIES:Workshop
END:VEVENT
END:VCALENDAR