BEGIN:VCALENDAR
VERSION:2.0
PRODID:-//EQness - ECPv6.15.20//NONSGML v1.0//EN
CALSCALE:GREGORIAN
METHOD:PUBLISH
X-WR-CALNAME:EQness
X-ORIGINAL-URL:https://eqness.com
X-WR-CALDESC:Events for EQness
REFRESH-INTERVAL;VALUE=DURATION:PT1H
X-Robots-Tag:noindex
X-PUBLISHED-TTL:PT1H
BEGIN:VTIMEZONE
TZID:Australia/Sydney
BEGIN:STANDARD
TZOFFSETFROM:+1100
TZOFFSETTO:+1000
TZNAME:AEST
DTSTART:20210403T160000
END:STANDARD
BEGIN:DAYLIGHT
TZOFFSETFROM:+1000
TZOFFSETTO:+1100
TZNAME:AEDT
DTSTART:20211002T160000
END:DAYLIGHT
BEGIN:STANDARD
TZOFFSETFROM:+1100
TZOFFSETTO:+1000
TZNAME:AEST
DTSTART:20220402T160000
END:STANDARD
BEGIN:DAYLIGHT
TZOFFSETFROM:+1000
TZOFFSETTO:+1100
TZNAME:AEDT
DTSTART:20221001T160000
END:DAYLIGHT
BEGIN:STANDARD
TZOFFSETFROM:+1100
TZOFFSETTO:+1000
TZNAME:AEST
DTSTART:20230401T160000
END:STANDARD
BEGIN:DAYLIGHT
TZOFFSETFROM:+1000
TZOFFSETTO:+1100
TZNAME:AEDT
DTSTART:20230930T160000
END:DAYLIGHT
END:VTIMEZONE
BEGIN:VEVENT
DTSTART;TZID=Australia/Sydney:20220404T180000
DTEND;TZID=Australia/Sydney:20220404T190000
DTSTAMP:20260424T045111
CREATED:20220207T101519Z
LAST-MODIFIED:20220207T114920Z
UID:3260-1649095200-1649098800@eqness.com
SUMMARY:Meditation Course: Connecting with the Sacred 5 elements - Session 5
DESCRIPTION:This is session 5 of our meditation program inspired by beautiful spiritual practices part of Bön Buddhism\, Today we will work on the Air Element. More Information here.
URL:https://eqness.com/venues/meditation-course-connecting-with-the-sacred-5-elements-session-5/
CATEGORIES:Course
ORGANIZER;CN="EQness":MAILTO:hola@eqness.com
END:VEVENT
BEGIN:VEVENT
DTSTART;TZID=Australia/Sydney:20220411T180000
DTEND;TZID=Australia/Sydney:20220411T190000
DTSTAMP:20260424T045111
CREATED:20220207T101759Z
LAST-MODIFIED:20220207T114959Z
UID:3262-1649700000-1649703600@eqness.com
SUMMARY:Meditation Course: Connecting with the Sacred 5 elements - Session 6
DESCRIPTION:This is the 6th and last session of our meditation program inspired by beautiful spiritual practices part of Bön Buddhism. Today we will do a combined practice. More Information here.
URL:https://eqness.com/venues/meditation-course-connecting-with-the-sacred-5-elements-session-6/
CATEGORIES:Course
ORGANIZER;CN="EQness":MAILTO:hola@eqness.com
END:VEVENT
END:VCALENDAR